BEGIN:VCALENDAR
PRODID:-//github.com/rianjs/ical.net//NONSGML ical.net 4.0//EN
VERSION:2.0
BEGIN:VEVENT
DESCRIPTION:Heute radeln wir von Dachau aus nach Südwesten Richtung Eschen
 ried und die Langwieder Seen in einer weiten Schleife nach Moosach zum al
 ten Wirt\; zurück nehmen wir dann die Dachauer Straße.\nhttps://touren-te
 rmine.adfc.de/radveranstaltung/125187-saisonabschluss-zum-alten-wirt-in-m
 oosach
DTEND:20241002T200000Z
DTSTAMP:20260419T143855Z
DTSTART:20241002T160000Z
LOCATION:Bike & Ride Fahrradparkhaus\, 85221 Dachau
SEQUENCE:0
SUMMARY:Saisonabschluss zum alten Wirt in Moosach
UID:f35b9ba3-e68e-494a-bd66-0c90c27f0d9b
URL:https://touren-termine.adfc.de/radveranstaltung/125187-saisonabschluss
 -zum-alten-wirt-in-moosach
END:VEVENT
END:VCALENDAR
