BEGIN:VCALENDAR
PRODID:-//github.com/rianjs/ical.net//NONSGML ical.net 4.0//EN
VERSION:2.0
BEGIN:VEVENT
DESCRIPTION:ca. 45 km\, 16-18 km/h\, Start: 10:00 Uhr\, 19.10.2024\, ab Pa
 rkplatz alte Seilbahnstation Altenahr. Einkehr geplant.\nhttps://touren-t
 ermine.adfc.de/radveranstaltung/137740-von-altenahr-nach-adenau-und-zuruc
 k
DTEND:20241019T130000Z
DTSTAMP:20260420T232652Z
DTSTART:20241019T080000Z
LOCATION:Seilbahnstraße 25\, 53505 Landkreis Ahrweiler
SEQUENCE:0
SUMMARY:Von Altenahr nach Adenau und zurück
UID:4a9f0853-488a-4b36-8800-9d8c6c1767ed
URL:https://touren-termine.adfc.de/radveranstaltung/137740-von-altenahr-na
 ch-adenau-und-zuruck
END:VEVENT
END:VCALENDAR
