BEGIN:VCALENDAR
PRODID:-//github.com/rianjs/ical.net//NONSGML ical.net 4.0//EN
VERSION:2.0
BEGIN:VEVENT
DESCRIPTION:Jahreshauptversammlung des ADFC Neumarkt im Glossner Bräustübl
 \nhttps://touren-termine.adfc.de/radveranstaltung/144779-jahreshauptversa
 mmlung-des-adfc-neumarkt
DTEND:20250228T210000Z
DTSTAMP:20260425T021538Z
DTSTART:20250228T180000Z
LOCATION:Glossner Bräustübl\, Schwesterhausgasse 9\, 92318 Neumarkt in der
  Oberpfalz
SEQUENCE:0
SUMMARY:Jahreshauptversammlung des ADFC Neumarkt
UID:71dc2986-6c19-48d8-ba62-2ca649a3ff5c
URL:https://touren-termine.adfc.de/radveranstaltung/144779-jahreshauptvers
 ammlung-des-adfc-neumarkt
END:VEVENT
END:VCALENDAR
