BEGIN:VCALENDAR
PRODID:-//github.com/rianjs/ical.net//NONSGML ical.net 4.0//EN
VERSION:2.0
BEGIN:VEVENT
DESCRIPTION:°\nhttps://touren-termine.adfc.de/radveranstaltung/184441-pots
 damer-seentour
DTEND:20250802T180000Z
DTSTAMP:20260421T101056Z
DTSTART:20250802T053000Z
LOCATION:MD-Hbf\, Willy-Brandt-Platz\, Zug 8.08 Uhr nach Berlin\, 39104 Ma
 gdeburg
SEQUENCE:0
SUMMARY:Potsdamer Seentour
UID:dfdcbb50-6d96-4954-bda3-d1066a7dfd18
URL:https://touren-termine.adfc.de/radveranstaltung/184441-potsdamer-seent
 our
END:VEVENT
END:VCALENDAR
