BEGIN:VCALENDAR
PRODID:-//github.com/rianjs/ical.net//NONSGML ical.net 4.0//EN
VERSION:2.0
BEGIN:VEVENT
DESCRIPTION:Rundtour zur neuen und alten Gartenstadt Staaken\, zu den Häus
 ern mit ihren Gärten\, durch den Wald parallel zum Flussgraben\, zur drit
 ten Gartenstadt\, der Waldsiedlung und zur Wasserstadt an der Havel.\nhtt
 ps://touren-termine.adfc.de/radveranstaltung/187177-4-gartenstadte
DTEND:20260403T160000Z
DTSTAMP:20260424T214340Z
DTSTART:20260403T090000Z
LOCATION:Bhf. Berlin Spandau\, Ausgang Spandau Arcaden\, 13581 Berlin
SEQUENCE:0
SUMMARY:4 Gartenstädte
UID:4cf30c9b-b7e8-4226-9c4e-63637e192212
URL:https://touren-termine.adfc.de/radveranstaltung/187177-4-gartenstadte
END:VEVENT
END:VCALENDAR
