BEGIN:VCALENDAR
PRODID:-//github.com/rianjs/ical.net//NONSGML ical.net 4.0//EN
VERSION:2.0
BEGIN:VEVENT
DESCRIPTION:Gemeinschaftsveranstaltung mit dem BUND. Wir fahren mit dem Fa
 hrrad zum Hohenseelbachskopf/Mahlscheid und wandern gemeinsam mit dem BUN
 D rund um die Mahlscheid.\nhttps://touren-termine.adfc.de/radveranstaltun
 g/186199-radtour-zur-wanderung-um-die-mahlscheid
DTEND:20260426T130000Z
DTSTAMP:20260423T030921Z
DTSTART:20260426T063000Z
LOCATION:Jakob-Scheiner-Platz\, 57072 Siegen
SEQUENCE:0
SUMMARY:Radtour zur Wanderung um die Mahlscheid
UID:a4c511a9-856e-4e57-bc00-8b6bd547a2a3
URL:https://touren-termine.adfc.de/radveranstaltung/186199-radtour-zur-wan
 derung-um-die-mahlscheid
END:VEVENT
END:VCALENDAR
