BEGIN:VCALENDAR
PRODID:-//github.com/rianjs/ical.net//NONSGML ical.net 4.0//EN
VERSION:2.0
BEGIN:VEVENT
DESCRIPTION:Feierabendtouren in die nähere Umgebung\, Distanz 20 - 30 km\,
  oft mit Einkehr.\nhttps://touren-termine.adfc.de/radveranstaltung/187685
 -gilchinger-feierabendtour
DTEND:20260821T180000Z
DTSTAMP:20260425T145514Z
DTSTART:20260821T150000Z
LOCATION:Marktplatz\, 82205 Gilching
SEQUENCE:0
SUMMARY:Gilchinger Feierabendtour
UID:9a031616-400c-4a75-99c9-ec24c8ec2469
URL:https://touren-termine.adfc.de/radveranstaltung/187685-gilchinger-feie
 rabendtour
END:VEVENT
END:VCALENDAR
