BEGIN:VCALENDAR
PRODID:-//github.com/rianjs/ical.net//NONSGML ical.net 4.0//EN
VERSION:2.0
BEGIN:VEVENT
DESCRIPTION:ca. 60 km\, 16-18 km/h\, Start: Aachen-Busbahnhof\, 24.08.2025
 \, 09:00 Uhr\nhttps://touren-termine.adfc.de/radveranstaltung/168337-kalt
 erherberg-aachen
DTEND:20250824T140000Z
DTSTAMP:20260420T231110Z
DTSTART:20250824T070000Z
LOCATION:Peterstraße 21\, 52062 Aachen
SEQUENCE:0
SUMMARY:Kalterherberg - Aachen
UID:6daf39e6-8a21-4a9d-9e0c-72bccc0327b7
URL:https://touren-termine.adfc.de/radveranstaltung/168337-kalterherberg-a
 achen
END:VEVENT
END:VCALENDAR
