BEGIN:VCALENDAR
PRODID:-//github.com/rianjs/ical.net//NONSGML ical.net 4.0//EN
VERSION:2.0
BEGIN:VEVENT
DESCRIPTION:Das ADFC-Aktiventreffen bietet die Möglichkeit gemeinsam über 
 aktuelle Themen zu diskutieren\, Ideen auszutauschen und aktiv an unserer
  Vereinsarbeit teilzuhaben.\nhttps://touren-termine.adfc.de/radveranstalt
 ung/181001-adfcaktiventreffen
DTEND:20260923T190000Z
DTSTAMP:20260424T160528Z
DTSTART:20260923T170000Z
LOCATION:Kunstraum im Hundertwasser-Bahnhof\, Friedensreich-Hundertwasser-
 Platz 1\, 29525 Uelzen
SEQUENCE:0
SUMMARY:ADFC-Aktiventreffen
UID:f1cbdfec-c59d-4071-8913-9d5618d66e52
URL:https://touren-termine.adfc.de/radveranstaltung/181001-adfcaktiventref
 fen
END:VEVENT
END:VCALENDAR
