BEGIN:VCALENDAR
PRODID:-//github.com/rianjs/ical.net//NONSGML ical.net 4.0//EN
VERSION:2.0
BEGIN:VEVENT
DESCRIPTION:An folgenden Tagen werden gespendete Fahrräder vom AK Ghostbik
 e für kommende Demonstrationen und Mahnwachen vorbereitet.\nhttps://toure
 n-termine.adfc.de/radveranstaltung/197063-ak-ghostbike-malt-spendenrader
DTEND:20260410T100000Z
DTSTAMP:20260420T230523Z
DTSTART:20260410T070000Z
LOCATION:Menckesallee 22\, 22089 Hamburg
SEQUENCE:0
SUMMARY:AK Ghostbike malt Spendenräder
UID:13e35109-7d62-4d0e-a021-a17e22221f10
URL:https://touren-termine.adfc.de/radveranstaltung/197063-ak-ghostbike-ma
 lt-spendenrader
END:VEVENT
END:VCALENDAR
