BEGIN:VCALENDAR
PRODID:-//github.com/rianjs/ical.net//NONSGML ical.net 4.0//EN
VERSION:2.0
BEGIN:VEVENT
DESCRIPTION:Wir fahren durch den südöstlichen Teil des Landkreises Götting
 en nach Lengenfeld unterm Stein und befahren dabei einen Großteil des \nK
 anonenbahnradweges.\nhttps://touren-termine.adfc.de/radveranstaltung/1858
 18-kanonenbahnradweg-thuringen
DTEND:20260705T160000Z
DTSTAMP:20260425T014438Z
DTSTART:20260705T070000Z
LOCATION:ADFC-Werkstatt\, Güterbahnhofstraße 9\, 37073 Göttingen
SEQUENCE:0
SUMMARY:Kanonenbahnradweg Thüringen
UID:cf1694ce-5f8c-4379-b08f-640326631114
URL:https://touren-termine.adfc.de/radveranstaltung/185818-kanonenbahnradw
 eg-thuringen
END:VEVENT
END:VCALENDAR
