BEGIN:VCALENDAR
PRODID:-//github.com/rianjs/ical.net//NONSGML ical.net 4.0//EN
VERSION:2.0
BEGIN:VEVENT
DESCRIPTION:Am Sonntag\, den 1. Juni 2025 findet die große ADFC-Sternfahrt
  statt. Aus Berlin und der ganzen Region fahren zehntausende Radfahrer:in
 nen zum Großen Stern - Sei dabei!\nhttps://touren-termine.adfc.de/radvera
 nstaltung/163550--sternfahrt-adfc-berlin
DTEND;VALUE=DATE:20250601
DTSTAMP:20260421T233709Z
DTSTART;VALUE=DATE:20250601
LOCATION:Großer Stern\, 10785 Berlin
SEQUENCE:0
SUMMARY: Sternfahrt ADFC Berlin
UID:08374164-5bde-430c-838f-f2de04f34ca4
URL:https://touren-termine.adfc.de/radveranstaltung/163550--sternfahrt-adf
 c-berlin
END:VEVENT
END:VCALENDAR
