BEGIN:VCALENDAR
PRODID:-//github.com/rianjs/ical.net//NONSGML ical.net 4.0//EN
VERSION:2.0
BEGIN:VEVENT
DESCRIPTION:Geschichtstour für Neubürger und weitere Wissbegierige durch S
 chulau anlässlich des Tages der Industriekultur am Wasser\nhttps://touren
 -termine.adfc.de/radveranstaltung/102881-neugierig-geschichtstour-industr
 ie-in-schulau
DTEND:20230923T140000Z
DTSTAMP:20260419T182018Z
DTSTART:20230923T110000Z
LOCATION:S-Bahnhof Wedel\, 22880 Wedel
SEQUENCE:0
SUMMARY:Neu(gierig)? Geschichtstour: Industrie in Schulau
UID:df078998-1afb-4c7d-b570-e337c9344221
URL:https://touren-termine.adfc.de/radveranstaltung/102881-neugierig-gesch
 ichtstour-industrie-in-schulau
END:VEVENT
END:VCALENDAR
