BEGIN:VCALENDAR
PRODID:-//github.com/rianjs/ical.net//NONSGML ical.net 4.0//EN
VERSION:2.0
BEGIN:VEVENT
DESCRIPTION:Aufbaukurs für erfahrene Komoot-Nutzer. Nur mit eigenem Laptop
  + Smartphone und guten PC-Kenntnissen. Bitte die Beschreibung zum Parkpl
 atz beachten. Anmeldeschluss: Mi 26.03.2025\nhttps://touren-termine.adfc.
 de/radveranstaltung/145088-fahrradnavigation-mit-komoot-aufbaukurs-in-kf
DTEND:20250327T200000Z
DTSTAMP:20260419T155628Z
DTSTART:20250327T170000Z
LOCATION:Buronstraße\, 87600 Kaufbeuren
SEQUENCE:0
SUMMARY:Fahrradnavigation mit Komoot - Aufbaukurs in KF
UID:12890325-2b90-4cc2-875f-3dd66fb72f5d
URL:https://touren-termine.adfc.de/radveranstaltung/145088-fahrradnavigati
 on-mit-komoot-aufbaukurs-in-kf
END:VEVENT
END:VCALENDAR
