BEGIN:VCALENDAR
PRODID:-//github.com/rianjs/ical.net//NONSGML ical.net 4.0//EN
VERSION:2.0
BEGIN:VEVENT
DESCRIPTION:Radtour durch eine der schönsten Täler der Schwäbischen Alb\nh
 ttps://touren-termine.adfc.de/radveranstaltung/99479-lonetal
DTEND:20230618T160000Z
DTSTAMP:20260424T143108Z
DTSTART:20230618T063000Z
LOCATION:Kegelenstraße 12\, 70372 Stuttgart
SEQUENCE:0
SUMMARY:Lonetal
UID:2045c85a-3476-4fa5-be41-6f02176a0143
URL:https://touren-termine.adfc.de/radveranstaltung/99479-lonetal
END:VEVENT
END:VCALENDAR
