BEGIN:VCALENDAR
PRODID:-//github.com/rianjs/ical.net//NONSGML ical.net 4.0//EN
VERSION:2.0
BEGIN:VEVENT
DESCRIPTION:Dienstags & Donnerstags zwischen 18:00 und 20:00 Uhr kann dort
  jeder\, sein Fahrrad eigenverantwortlich selbst reparieren - wenn nötig 
 unter Anleitung oder Mithilfe unsere Werkstattteams\nhttps://touren-termi
 ne.adfc.de/radveranstaltung/115582-selbsthilfewerkstatt-ist-geoffnet
DTEND:20240627T180000Z
DTSTAMP:20260424T150521Z
DTSTART:20240627T160000Z
LOCATION:ADFC-Selbsthilfewerkstatt\, Weinweg 2\, 93049 Regensburg
SEQUENCE:0
SUMMARY:Selbsthilfewerkstatt ist geöffnet
UID:0f03e6f7-fed2-4223-a14b-b0780a6eddc2
URL:https://touren-termine.adfc.de/radveranstaltung/115582-selbsthilfewerk
 statt-ist-geoffnet
END:VEVENT
END:VCALENDAR
