BEGIN:VCALENDAR
PRODID:-//github.com/rianjs/ical.net//NONSGML ical.net 4.0//EN
VERSION:2.0
BEGIN:VEVENT
DESCRIPTION:Auch in diesem Jahr wird wieder demonstriert! Wir planen die v
 ierte große Radeldemo auf der B12 – gegen die überdimensionierten Ausbaup
 lanungen und für eine zukunftsfähige Verkehrspolitik.\nhttps://touren-ter
 mine.adfc.de/radveranstaltung/138829-demo-b12-so-nicht
DTEND:20240922T120000Z
DTSTAMP:20260419T155729Z
DTSTART:20240922T090000Z
LOCATION:Rudolf-Diesel-Straße 8\, 87656 Landkreis Ostallgäu
SEQUENCE:0
SUMMARY:Demo "B12- so nicht!"
UID:a8ba5b7f-21f6-46f8-aa1f-b51496ccfabb
URL:https://touren-termine.adfc.de/radveranstaltung/138829-demo-b12-so-nic
 ht
END:VEVENT
END:VCALENDAR
