BEGIN:VCALENDAR
PRODID:-//github.com/rianjs/ical.net//NONSGML ical.net 4.0//EN
VERSION:2.0
BEGIN:VEVENT
DESCRIPTION:ca. 75 km\, 16-18 km/h\, Start: Parkplatz Schloss Rheydt\, 09.
 06.2025\, 10:00 Uhr. Von Schloss Rheydt über Kaarst über die Südbrücke mi
 t Einkehrmöglichkeiten im Düsseldorfer Hafen und zurück zum Schloss.\nhtt
 ps://touren-termine.adfc.de/radveranstaltung/167553-rheydt-medienhafen-du
 sseldorf-rheydt
DTEND:20250609T140000Z
DTSTAMP:20260420T232148Z
DTSTART:20250609T080000Z
LOCATION:Ritterstraße\, 41238 Mönchengladbach
SEQUENCE:0
SUMMARY:Rheydt - Medienhafen Düsseldorf - Rheydt
UID:99be243c-e2ab-4fca-8efe-d3b8855da35c
URL:https://touren-termine.adfc.de/radveranstaltung/167553-rheydt-medienha
 fen-dusseldorf-rheydt
END:VEVENT
END:VCALENDAR
