BEGIN:VCALENDAR
PRODID:-//github.com/rianjs/ical.net//NONSGML ical.net 4.0//EN
VERSION:2.0
BEGIN:VEVENT
DESCRIPTION:Durch das Wiembachtal nach Altenberg. Weiter über Neschen und 
 Scheueren zur Staumauer der Dhünntalsperre. An der Dhünn entlang geht es 
 über Leverkusen-Schlebusch zum Ausgangspunkt nach Opladen\nhttps://touren
 -termine.adfc.de/radveranstaltung/140181-dhunntalsperre
DTEND:20241027T160000Z
DTSTAMP:20260421T120937Z
DTSTART:20241027T083000Z
LOCATION:Wupsi-Kundencenter Freiherr-vom-Stein-Straße 1\, 51379 Leverkusen
SEQUENCE:0
SUMMARY:Dhünntalsperre
UID:e2b2dd6b-e226-438c-91cf-3e07dae26813
URL:https://touren-termine.adfc.de/radveranstaltung/140181-dhunntalsperre
END:VEVENT
END:VCALENDAR
