BEGIN:VCALENDAR
PRODID:-//github.com/rianjs/ical.net//NONSGML ical.net 4.0//EN
VERSION:2.0
BEGIN:VEVENT
DESCRIPTION:Wir wollen eine kurze Runde radeln und dann im Biergarten den 
 schönen Herbst genießen. Geplant ist eine Strecke von 30 km über den Tong
 rubenweg zum Imbiss an der Grabowseebrücke\, wo die Tour endet.\nhttps://
 touren-termine.adfc.de/radveranstaltung/142452-fruhschoppen-an-der-grabow
 seebrucke
DTEND:20241110T123000Z
DTSTAMP:20260425T200634Z
DTSTART:20241110T090000Z
LOCATION:Bahnhof\, 16515 Oranienburg
SEQUENCE:0
SUMMARY:Frühschoppen an der Grabowseebrücke
UID:e46ad0e4-caa2-4f8c-9ceb-97fa78232eff
URL:https://touren-termine.adfc.de/radveranstaltung/142452-fruhschoppen-an
 -der-grabowseebrucke
END:VEVENT
END:VCALENDAR
