BEGIN:VCALENDAR
PRODID:-//github.com/rianjs/ical.net//NONSGML ical.net 4.0//EN
VERSION:2.0
BEGIN:VEVENT
DESCRIPTION:Für ganz kurz entschlossene. Heute 14.30 ab Rotem Platz Kreuzt
 al über die Oberndorfer Höhe zur Liftschänke. Rückfahrt über Forsthaus Ho
 henroth\, Obernautalsperre und Netphen.\nca. 50 km und 500 Hm.\nhttps://t
 ouren-termine.adfc.de/radveranstaltung/180321-kaffeefahrt-zur-liftschanke
 -pedelec
DTEND:20251214T165000Z
DTSTAMP:20260422T234555Z
DTSTART:20251214T133000Z
LOCATION:Marburgerstraße\, Roter Platz\, 57223 Kreuztal
SEQUENCE:0
SUMMARY:Kaffeefahrt zur Liftschänke (Pedelec)
UID:448e89d1-4d44-4edc-b98b-e4db53162972
URL:https://touren-termine.adfc.de/radveranstaltung/180321-kaffeefahrt-zur
 -liftschanke-pedelec
END:VEVENT
END:VCALENDAR
