BEGIN:VCALENDAR
PRODID:-//github.com/rianjs/ical.net//NONSGML ical.net 4.0//EN
VERSION:2.0
BEGIN:VEVENT
DESCRIPTION:Starttour\nVon Mai bis Anfang September bieten wir jeden Diens
 tagabend Radtouren an.\nhttps://touren-termine.adfc.de/radveranstaltung/1
 40787-1-fitnessradeln-saison-am-dienstag
DTEND:20260505T180000Z
DTSTAMP:20260420T210502Z
DTSTART:20260505T161500Z
LOCATION:AOK\, Waitzinger Wiese 1\, 86899 Landsberg am Lech
SEQUENCE:0
SUMMARY:1. Fitnessradeln Saison am Dienstag
UID:f57bb8a4-027f-41e9-8261-e5441eb06ca8
URL:https://touren-termine.adfc.de/radveranstaltung/140787-1-fitnessradeln
 -saison-am-dienstag
END:VEVENT
END:VCALENDAR
