BEGIN:VCALENDAR
PRODID:-//github.com/rianjs/ical.net//NONSGML ical.net 4.0//EN
VERSION:2.0
BEGIN:VEVENT
DESCRIPTION:Jeden Mittwoch vom 1.4. bis zum 31.8.2026\nStart 18.oo am Rath
 aus Gbw\, ca 30km\nhttps://touren-termine.adfc.de/radveranstaltung/192735
 -kurztour
DTEND:20260610T180000Z
DTSTAMP:20260423T182641Z
DTSTART:20260610T160000Z
LOCATION:Fuhrberger Straße 4\, 30938 Burgwedel
SEQUENCE:0
SUMMARY:Kurztour
UID:80d54a9f-375b-4d15-9d79-6c122980a7ab
URL:https://touren-termine.adfc.de/radveranstaltung/192735-kurztour
END:VEVENT
END:VCALENDAR
