BEGIN:VCALENDAR
PRODID:-//github.com/rianjs/ical.net//NONSGML ical.net 4.0//EN
VERSION:2.0
BEGIN:VEVENT
DESCRIPTION:Wir fahren durch den wunderschönen Bachgau nach Wenigumstadt z
 ur Mittagsrast im Landgasthaus Black Angus. Anmeldung notwending\nhttps:/
 /touren-termine.adfc.de/radveranstaltung/144557-in-den-bachgau
DTEND:20250421T160000Z
DTSTAMP:20260423T191257Z
DTSTART:20250421T073000Z
LOCATION:Lindenplatz\, 63303 Sprendlingen
SEQUENCE:0
SUMMARY:In den Bachgau
UID:833cd46e-8e13-4722-b81e-d4320a53de98
URL:https://touren-termine.adfc.de/radveranstaltung/144557-in-den-bachgau
END:VEVENT
END:VCALENDAR
