BEGIN:VCALENDAR
PRODID:-//github.com/rianjs/ical.net//NONSGML ical.net 4.0//EN
VERSION:2.0
BEGIN:VEVENT
DESCRIPTION:Aktionen rund um den Besuch der Tour de Verkehrswende in Uelze
 n\nhttps://touren-termine.adfc.de/radveranstaltung/192537-aktionen-mit-de
 r-tour-de-verkehrswende-in-uelzen
DTEND:20260810T180000Z
DTSTAMP:20260424T162010Z
DTSTART:20260810T140000Z
LOCATION:Herzogenplatz\, 29525 Uelzen
SEQUENCE:0
SUMMARY:Aktionen mit der Tour de Verkehrswende in Uelzen
UID:46738135-020a-4ffc-b967-a04c6944afe7
URL:https://touren-termine.adfc.de/radveranstaltung/192537-aktionen-mit-de
 r-tour-de-verkehrswende-in-uelzen
END:VEVENT
END:VCALENDAR
