BEGIN:VCALENDAR
PRODID:-//github.com/rianjs/ical.net//NONSGML ical.net 4.0//EN
VERSION:2.0
BEGIN:VEVENT
DESCRIPTION:Treff: Marktplatz Rheydt an der Evangelischen Hauptkirche\, 21
 .06.2026\,07:00 Uhr. Dies ist zunächst der Zubringer zum Hamtorplatz in N
 euss. Von dort geht es um 08:45 Uhr weiter über Dormagen nach Köln.\nhttp
 s://touren-termine.adfc.de/radveranstaltung/197664-sternfahrt-koln-zubrin
 ger-von-rheydt-nach-neuss
DTEND:20260621T200000Z
DTSTAMP:20260421T020141Z
DTSTART:20260621T050000Z
LOCATION:Marktstraße 10\, 41236 Mönchengladbach
SEQUENCE:0
SUMMARY:Sternfahrt Köln. Zubringer von Rheydt nach Neuss.
UID:e905fae1-1879-40f4-a1b2-ab9f83f1ae32
URL:https://touren-termine.adfc.de/radveranstaltung/197664-sternfahrt-koln
 -zubringer-von-rheydt-nach-neuss
END:VEVENT
END:VCALENDAR
