BEGIN:VCALENDAR
PRODID:-//github.com/rianjs/ical.net//NONSGML ical.net 4.0//EN
VERSION:2.0
BEGIN:VEVENT
DESCRIPTION:Die langsamen und gemütlichen Ausfahrten führen durch die Regi
 on rund um Hechthausen.\nhttps://touren-termine.adfc.de/radveranstaltung/
 152428-nachmittagstour-in-hechthausen
DTEND:20250804T143000Z
DTSTAMP:20260421T114904Z
DTSTART:20250804T113000Z
LOCATION:Engelstüvchen\, Mühlenstraße 2\, 21755 Landkreis Cuxhaven
SEQUENCE:0
SUMMARY:Nachmittagstour in Hechthausen
UID:0d6db8cc-36df-4149-9ff1-e3ee97c02544
URL:https://touren-termine.adfc.de/radveranstaltung/152428-nachmittagstour
 -in-hechthausen
END:VEVENT
END:VCALENDAR
