BEGIN:VCALENDAR
PRODID:-//github.com/rianjs/ical.net//NONSGML ical.net 4.0//EN
VERSION:2.0
BEGIN:VEVENT
DESCRIPTION:Treffen der ADFC Nachbarregionen von Celle: Burgdorf-Uetze\, G
 ifhorn\, Heidekreis\, Uelzen\, Wedemark. Ziel ist der Austausch der Aktio
 nen und Schwerpunkte in den jeweiligen Regionen. Nur mit Einladung.\nhttp
 s://touren-termine.adfc.de/radveranstaltung/183430-treffen-der-adfc-nachb
 arregionen-intern
DTEND:20260206T200000Z
DTSTAMP:20260421T184811Z
DTSTART:20260206T160000Z
LOCATION:Wittinger Straße\, Hotel  Leisewitz Garten\, 29223 Celle
SEQUENCE:0
SUMMARY:Treffen der ADFC Nachbarregionen / intern
UID:7e9141c5-0bd1-465f-9e01-a8c9ef044253
URL:https://touren-termine.adfc.de/radveranstaltung/183430-treffen-der-adf
 c-nachbarregionen-intern
END:VEVENT
END:VCALENDAR
