BEGIN:VCALENDAR
PRODID:-//github.com/rianjs/ical.net//NONSGML ical.net 4.0//EN
VERSION:2.0
BEGIN:VEVENT
DESCRIPTION:Verlegt auf So.\, 13.7.!\n\nAuf 29 km ein Mal um Hannover drum
  herum: Sehr schöne Radtour\nhttps://touren-termine.adfc.de/radveranstalt
 ung/164850-verlegt-auf-so-137-juliustripring-
DTEND:20250607T160000Z
DTSTAMP:20260424T173210Z
DTSTART:20250607T110000Z
LOCATION:ADFC-Radtour-Startplatz: "Zwischen Post und Rathaus". - Marktplat
 z 1\, 30853 Langenhagen
SEQUENCE:0
SUMMARY:Verlegt auf So.\, 13.7.! "Julius-Trip-Ring" ⓇⓈ
UID:37e965e5-95e1-4e15-a4b9-2103557e0220
URL:https://touren-termine.adfc.de/radveranstaltung/164850-verlegt-auf-so-
 137-juliustripring-
END:VEVENT
END:VCALENDAR
