BEGIN:VCALENDAR
PRODID:-//github.com/rianjs/ical.net//NONSGML ical.net 4.0//EN
VERSION:2.0
BEGIN:VEVENT
DESCRIPTION:Am Blaulichttag zum Technischen Ausbildungdzentrum (Tag der of
 fenen Tür) vom Bahnhof Oranienburg über Teerofen und Germendorf  in große
 r Runde\nhttps://touren-termine.adfc.de/radveranstaltung/167766-zum-taz-a
 m-blaulichttag
DTEND:20250621T110000Z
DTSTAMP:20260425T201146Z
DTSTART:20250621T080000Z
LOCATION:Bahnhof\, 16515 Oranienburg
SEQUENCE:0
SUMMARY:Zum TAZ am Blaulichttag
UID:873af542-5fec-4dc5-88f2-9ef670302dfc
URL:https://touren-termine.adfc.de/radveranstaltung/167766-zum-taz-am-blau
 lichttag
END:VEVENT
END:VCALENDAR
