BEGIN:VCALENDAR
PRODID:-//github.com/rianjs/ical.net//NONSGML ical.net 4.0//EN
VERSION:2.0
BEGIN:VEVENT
DESCRIPTION:ca. 50 km\, 16-18 km/h\, Start: Parkplatz Stadtwaldweiher Rhey
 dt\, 06.04.2024\, 09:30 Uhr. Vom Stadtwald Rheydt über Wegberg nach Rothe
 nbach (Einkehrmöglichkeit) und zurück nach Rheydt.\nhttps://touren-termin
 e.adfc.de/radveranstaltung/118253-rheydt-grenze-rothenbach-rheydt
DTEND:20240406T130000Z
DTSTAMP:20260420T232053Z
DTSTART:20240406T073000Z
LOCATION:An der Rheydter Höhe 48\, 41239 Mönchengladbach
SEQUENCE:0
SUMMARY:Rheydt - Grenze Rothenbach - Rheydt
UID:52a85834-0003-46d2-9a0a-edb1c44f8390
URL:https://touren-termine.adfc.de/radveranstaltung/118253-rheydt-grenze-r
 othenbach-rheydt
END:VEVENT
END:VCALENDAR
