BEGIN:VCALENDAR
PRODID:-//github.com/rianjs/ical.net//NONSGML ical.net 4.0//EN
VERSION:2.0
BEGIN:VEVENT
DESCRIPTION:Hügelige Tour von Altomünster über Schrobenhausen nach Petersh
 ausen\nhttps://touren-termine.adfc.de/radveranstaltung/196958-spargelhof-
 kling
DTEND:20260531T150000Z
DTSTAMP:20260421T100716Z
DTSTART:20260531T081000Z
LOCATION:Bahnhofstraße\, 85250 Altomünster\, 85250 Landkreis Dachau
SEQUENCE:0
SUMMARY:Spargelhof Kling
UID:d793142c-3d32-4d9b-b928-bc5796ea002b
URL:https://touren-termine.adfc.de/radveranstaltung/196958-spargelhof-kling
END:VEVENT
END:VCALENDAR
