BEGIN:VCALENDAR
PRODID:-//github.com/rianjs/ical.net//NONSGML ical.net 4.0//EN
VERSION:2.0
BEGIN:VEVENT
DESCRIPTION:Fahrt zur früheren Benediktiner-Abtei Brauweiler und seinem Pa
 rk mit altem Baumbestand.\nhttps://touren-termine.adfc.de/radveranstaltun
 g/127797-abtei-brauweiler-adfc-leverkusen
DTEND:20240428T160000Z
DTSTAMP:20260421T121141Z
DTSTART:20240428T073000Z
LOCATION:Wupsi-Kundencenter Freiherr-vom-Stein-Straße 1\, 51379 Leverkusen
SEQUENCE:0
SUMMARY:Abtei Brauweiler ADFC Leverkusen
UID:21f9cc60-9e5c-49b6-9fc1-50b801d56dd5
URL:https://touren-termine.adfc.de/radveranstaltung/127797-abtei-brauweile
 r-adfc-leverkusen
END:VEVENT
END:VCALENDAR
