BEGIN:VCALENDAR
PRODID:-//github.com/rianjs/ical.net//NONSGML ical.net 4.0//EN
VERSION:2.0
BEGIN:VEVENT
DESCRIPTION:Wir bieten verschiedene Strecken zwischen 25 km und 35 km Läng
 e mit einer Fahrtdauer von ca. 2 Stunden an.\nhttps://touren-termine.adfc
 .de/radveranstaltung/116459-feierabendtour-parkplatz-donauarena
DTEND:20240508T190000Z
DTSTAMP:20260421T160918Z
DTSTART:20240508T160000Z
LOCATION:östlicher Parkplatz der Donauarena\, Walhalla-Allee\, 93055 Regen
 sburg
SEQUENCE:0
SUMMARY:Feierabendtour: Parkplatz Donau-Arena
UID:8da9251f-ea2b-4c96-9ff6-02ac7fd5c92c
URL:https://touren-termine.adfc.de/radveranstaltung/116459-feierabendtour-
 parkplatz-donauarena
END:VEVENT
END:VCALENDAR
