BEGIN:VCALENDAR
PRODID:-//github.com/rianjs/ical.net//NONSGML ical.net 4.0//EN
VERSION:2.0
BEGIN:VEVENT
DESCRIPTION:Dienstags & Donnerstags zwischen 18:00 und 20:00 Uhr kann dort
  jeder\, sein Fahrrad eigenverantwortlich selbst reparieren - wenn nötig 
 unter Anleitung oder Mithilfe unsere Werkstattteams\nhttps://touren-termi
 ne.adfc.de/radveranstaltung/165982-selbsthilfewerkstatt-ist-geoffnet
DTEND:20250807T180000Z
DTSTAMP:20260424T150532Z
DTSTART:20250807T160000Z
LOCATION:ADFC-Selbsthilfewerkstatt\, Weinweg 2\, 93049 Regensburg
SEQUENCE:0
SUMMARY:Selbsthilfewerkstatt ist geöffnet
UID:9e11f6a3-3f39-4d5d-a58d-ef910a1c05b2
URL:https://touren-termine.adfc.de/radveranstaltung/165982-selbsthilfewerk
 statt-ist-geoffnet
END:VEVENT
END:VCALENDAR
