BEGIN:VCALENDAR
PRODID:-//github.com/rianjs/ical.net//NONSGML ical.net 4.0//EN
VERSION:2.0
BEGIN:VEVENT
DESCRIPTION:- Die Handhabung der Komoot - App\n- Schritt für Schritt leich
 t gemacht\n- Unter Anleitung erste praktische Übungen\n- Teilnehmer max.8
 \n- Anmeldung bis zum 10.02.2025\nhttps://touren-termine.adfc.de/radveran
 staltung/145929-komoot-schulung-modul-1
DTEND:20250212T190000Z
DTSTAMP:20260421T114652Z
DTSTART:20250212T170000Z
LOCATION:Lüneburger Straße 16 AKH Verwaltungsgebäude\, 29223 Celle
SEQUENCE:0
SUMMARY:Komoot Schulung Modul 1
UID:63559c78-1109-40a2-b7c0-57b660eb0eaf
URL:https://touren-termine.adfc.de/radveranstaltung/145929-komoot-schulung
 -modul-1
END:VEVENT
END:VCALENDAR
