BEGIN:VCALENDAR
PRODID:-//github.com/rianjs/ical.net//NONSGML ical.net 4.0//EN
VERSION:2.0
BEGIN:VEVENT
DESCRIPTION:Wir fahren über die Fleher Brücke\, den Schlosspark Eller über
  verkehrsarme Wege Richtung Erkrath zum Bauern-Cafe und angrenzender Fisc
 hscheune (Fischverkauf) Groß Ilbeck bei Ratingen.\nhttps://touren-termine
 .adfc.de/radveranstaltung/102101-zum-bauernhofcafe-gross-ilbeck
DTEND:20230610T160000Z
DTSTAMP:20260421T170418Z
DTSTART:20230610T083000Z
LOCATION:Hamtorplatz\, 41460 Neuss
SEQUENCE:0
SUMMARY:Zum Bauernhof-Cafe Groß Ilbeck
UID:a798335d-0a43-467f-9a3f-3d04d1aa4af6
URL:https://touren-termine.adfc.de/radveranstaltung/102101-zum-bauernhofca
 fe-gross-ilbeck
END:VEVENT
END:VCALENDAR
