BEGIN:VCALENDAR
PRODID:-//github.com/rianjs/ical.net//NONSGML ical.net 4.0//EN
VERSION:2.0
BEGIN:VEVENT
DESCRIPTION:Monatliches Arbeitstreffen der Radverkehrsgruppe des ADFC Köln
  am letzten Mittwoch des Monats\nhttps://touren-termine.adfc.de/radverans
 taltung/198890-radverkehrsgruppe-adfc-koln
DTEND:20260826T183000Z
DTSTAMP:20260423T075945Z
DTSTART:20260826T170000Z
LOCATION:ADFC Köln\, Mauritiussteinweg 11\, 50676 Köln
SEQUENCE:0
SUMMARY:Radverkehrsgruppe ADFC Köln
UID:aad7e49d-03a8-4fa4-a72b-728fa42f8d9a
URL:https://touren-termine.adfc.de/radveranstaltung/198890-radverkehrsgrup
 pe-adfc-koln
END:VEVENT
END:VCALENDAR
