BEGIN:VCALENDAR
PRODID:-//github.com/rianjs/ical.net//NONSGML ical.net 4.0//EN
VERSION:2.0
BEGIN:VEVENT
DESCRIPTION:Der Name ist Programm: schnuckelige 45 km-Tour durch die Ruhra
 uen\nhttps://touren-termine.adfc.de/radveranstaltung/105141-gemutliche-to
 ur-zur-und-entlang-der-ruhr
DTEND:20230812T133000Z
DTSTAMP:20260424T193626Z
DTSTART:20230812T080000Z
LOCATION:Iserlohn-Barendorf\, 58636 Iserlohn
SEQUENCE:0
SUMMARY:Gemütliche Tour zur und entlang der Ruhr
UID:d8fcc976-d7b8-43fb-8e9a-004e6fdf93e3
URL:https://touren-termine.adfc.de/radveranstaltung/105141-gemutliche-tour
 -zur-und-entlang-der-ruhr
END:VEVENT
END:VCALENDAR
