BEGIN:VCALENDAR
PRODID:-//github.com/rianjs/ical.net//NONSGML ical.net 4.0//EN
VERSION:2.0
BEGIN:VEVENT
DESCRIPTION:Einfache Feierabend-Radtouren rund um Stadthagen. Jeder\, idea
 l auch für Einsteiger\, der ein verkehrssicheres Fahrrad besitzt und sich
  auf dem Fahrrad wohlfühlt\, kann gerne teilnehmen.\nhttps://touren-termi
 ne.adfc.de/radveranstaltung/143240-mittwochsradeln-rund-um-stadthagen
DTEND:20250611T190000Z
DTSTAMP:20260420T174427Z
DTSTART:20250611T160000Z
LOCATION:Am Markt\, 31655 Stadthagen
SEQUENCE:0
SUMMARY:Mittwochsradeln rund um Stadthagen
UID:4a2ed62c-0ea7-4203-96ce-7da32e690f48
URL:https://touren-termine.adfc.de/radveranstaltung/143240-mittwochsradeln
 -rund-um-stadthagen
END:VEVENT
END:VCALENDAR
