BEGIN:VCALENDAR
PRODID:-//github.com/rianjs/ical.net//NONSGML ical.net 4.0//EN
VERSION:2.0
BEGIN:VEVENT
DESCRIPTION:Vor dem Radlerstammtisch treffen sich die Aktiven und die Vors
 tandschaft.\nhttps://touren-termine.adfc.de/radveranstaltung/145056-aktiv
 entreff
DTEND:20250206T180000Z
DTSTAMP:20260419T160005Z
DTSTART:20250206T170000Z
LOCATION:Gasthaus Belfort\, Mindelheimer Straße 35\, 87600 Kaufbeuren
SEQUENCE:0
SUMMARY:Aktiventreff
UID:e374e4a8-43c1-4a5b-95f1-37da51f9b327
URL:https://touren-termine.adfc.de/radveranstaltung/145056-aktiventreff
END:VEVENT
END:VCALENDAR
