BEGIN:VCALENDAR
PRODID:-//github.com/rianjs/ical.net//NONSGML ical.net 4.0//EN
VERSION:2.0
BEGIN:VEVENT
DESCRIPTION:Das AktivenForum richtet sich an alle\, die als Ehrenamtliche 
 für den ADFC Berlin aktiv sind. Wir bringen uns auf den aktuellen Stand u
 nd berichten von unserer Arbeit.\nhttps://touren-termine.adfc.de/radveran
 staltung/138775-aktivenforum
DTEND:20240909T183000Z
DTSTAMP:20260424T173204Z
DTSTART:20240909T170000Z
LOCATION:Online\, 10963 Berlin
SEQUENCE:0
SUMMARY:AktivenForum
UID:3f665db9-343d-4085-896f-74518d690340
URL:https://touren-termine.adfc.de/radveranstaltung/138775-aktivenforum
END:VEVENT
END:VCALENDAR
