BEGIN:VCALENDAR
PRODID:-//github.com/rianjs/ical.net//NONSGML ical.net 4.0//EN
VERSION:2.0
BEGIN:VEVENT
DESCRIPTION:Die Blütezeit ist recht kurz\, aber Form und Farbe ist prächti
 g anzuschauen.\nhttps://touren-termine.adfc.de/radveranstaltung/189316-di
 e-tulpenmagnolie-in-koln-flora-rheinpark
DTEND:20260401T160000Z
DTSTAMP:20260423T151637Z
DTSTART:20260401T110000Z
LOCATION:Radstation\, Busbahnhof\, S-Bahn\, 51465 Bergisch Gladbach
SEQUENCE:0
SUMMARY:Die Tulpen-Magnolie in Köln (Flora) & (Rheinpark)
UID:34bf94ee-d557-440d-b1ad-4ff0020e5d93
URL:https://touren-termine.adfc.de/radveranstaltung/189316-die-tulpenmagno
 lie-in-koln-flora-rheinpark
END:VEVENT
END:VCALENDAR
