BEGIN:VCALENDAR
PRODID:-//github.com/rianjs/ical.net//NONSGML ical.net 4.0//EN
VERSION:2.0
BEGIN:VEVENT
DESCRIPTION:Offener Radelstammtisch der ADFC-Ortsgruppe Bad Berleburg\nhtt
 ps://touren-termine.adfc.de/radveranstaltung/197544-radelstammtisch-bad-b
 erleburg
DTEND:20260526T170000Z
DTSTAMP:20260423T030359Z
DTSTART:20260526T170000Z
LOCATION:Alte Landratsvilla\, Poststraße 40\, 57319 Bad Berleburg
SEQUENCE:0
SUMMARY:Radelstammtisch Bad Berleburg
UID:355cc30e-b294-4d08-99c8-ecf58fc39338
URL:https://touren-termine.adfc.de/radveranstaltung/197544-radelstammtisch
 -bad-berleburg
END:VEVENT
END:VCALENDAR
