BEGIN:VCALENDAR
PRODID:-//github.com/rianjs/ical.net//NONSGML ical.net 4.0//EN
VERSION:2.0
BEGIN:VEVENT
DESCRIPTION:"Der ADFC Osterholz macht mit"  -  Einblicke in die Vielfalt e
 hrenamtlicher Tätigkeiten  in Osterholz-Scharmbeck\nhttps://touren-termin
 e.adfc.de/radveranstaltung/198697-engagement-messe-2026
DTEND:20260509T150000Z
DTSTAMP:20260422T015938Z
DTSTART:20260509T120000Z
LOCATION:Medienhaus im Campus\, Am Barkhof 10a\, 27711 Osterholz-Scharmbeck
SEQUENCE:0
SUMMARY:ENGAGEMENT - MESSE 2026
UID:5527b3fa-ba9d-4cca-a841-93a63afe4d32
URL:https://touren-termine.adfc.de/radveranstaltung/198697-engagement-mess
 e-2026
END:VEVENT
END:VCALENDAR
