BEGIN:VCALENDAR
PRODID:-//github.com/rianjs/ical.net//NONSGML ical.net 4.0//EN
VERSION:2.0
BEGIN:VEVENT
DESCRIPTION:Heute radeln wir in einer weiten Schleife zur Olchinger Brauma
 nufaktur\; frisch gestärkt geht`s dann am AAR entlang wieder zurück.\nhtt
 ps://touren-termine.adfc.de/radveranstaltung/98311-sudwestschleife
DTEND:20230621T190000Z
DTSTAMP:20260421T100752Z
DTSTART:20230621T160000Z
LOCATION:Bike & Ride Fahrradparkhaus\, 85221 Dachau
SEQUENCE:0
SUMMARY:Südwestschleife
UID:89c0df21-0010-45d0-a272-f6739c61382f
URL:https://touren-termine.adfc.de/radveranstaltung/98311-sudwestschleife
END:VEVENT
END:VCALENDAR
