BEGIN:VCALENDAR
PRODID:-//github.com/rianjs/ical.net//NONSGML ical.net 4.0//EN
VERSION:2.0
BEGIN:VEVENT
DESCRIPTION:Der Termin soll dazu dienen gemeinsam eine Runde mit dem Fahrr
 ad zu fahren. Dabei gibt es auch genug Möglichkeit über aktuelle Uelzer F
 ahrradthemen zu sprechen.\nhttps://touren-termine.adfc.de/radveranstaltun
 g/167280-adfcaktiventreffen-auf-dem-rad
DTEND:20250730T190000Z
DTSTAMP:20260424T161938Z
DTSTART:20250730T160000Z
LOCATION:Herzogenplatz\, 29525 Uelzen
SEQUENCE:0
SUMMARY:ADFC-Aktiventreffen auf dem Rad
UID:0b69a1c8-180c-487b-82e8-a8586b2ec746
URL:https://touren-termine.adfc.de/radveranstaltung/167280-adfcaktiventref
 fen-auf-dem-rad
END:VEVENT
END:VCALENDAR
