BEGIN:VCALENDAR
PRODID:-//github.com/rianjs/ical.net//NONSGML ical.net 4.0//EN
VERSION:2.0
BEGIN:VEVENT
DESCRIPTION:Von Kreuztal mit dem Pedelec zum Ausblick und zur Einkehr an d
 er HOHEN BRACHT. Waldwege und kleine Straßen. Mit Sonnenuntergang am ewig
 en Fuhrmann. Anmeldung bis 10.6. 12.00! Achtung: Start 17.00 Uhr!\nhttps:
 //touren-termine.adfc.de/radveranstaltung/147524-grosse-pedelecfeierabend
 tour-hohe-bracht
DTEND:20250612T203000Z
DTSTAMP:20260422T234502Z
DTSTART:20250612T150000Z
LOCATION:Marburgerstraße\, Roter Platz\, 57223 Kreuztal
SEQUENCE:0
SUMMARY:Große Pedelec-Feierabendtour Hohe Bracht
UID:87d3e5ee-9abd-4514-baa5-c7c2fdb0c895
URL:https://touren-termine.adfc.de/radveranstaltung/147524-grosse-pedelecf
 eierabendtour-hohe-bracht
END:VEVENT
END:VCALENDAR
