BEGIN:VCALENDAR
PRODID:-//github.com/rianjs/ical.net//NONSGML ical.net 4.0//EN
VERSION:2.0
BEGIN:VEVENT
DESCRIPTION:Von Kirchheim über Bad Boll ins Filstal und weiter ins Remstal
 \nhttps://touren-termine.adfc.de/radveranstaltung/160933-von-kirchheim-na
 ch-bad-cannstatt
DTEND:20250522T150000Z
DTSTAMP:20260424T143839Z
DTSTART:20250522T064500Z
LOCATION:Kegelenstraße 12\, 70372 Stuttgart
SEQUENCE:0
SUMMARY:Von Kirchheim nach Bad Cannstatt
UID:e835de9d-3c2f-4602-b416-725446dbb66b
URL:https://touren-termine.adfc.de/radveranstaltung/160933-von-kirchheim-n
 ach-bad-cannstatt
END:VEVENT
END:VCALENDAR
