BEGIN:VCALENDAR
PRODID:-//github.com/rianjs/ical.net//NONSGML ical.net 4.0//EN
VERSION:2.0
BEGIN:VEVENT
DESCRIPTION:Rundtour von Oranienburg nach Kremmen im Rahmen der kreisweite
 n Stadtradelwochen\nhttps://touren-termine.adfc.de/radveranstaltung/13735
 2-stadtradelnauftakttour-zum-erntefest-nach-kremmen
DTEND:20240908T140000Z
DTSTAMP:20260425T232459Z
DTSTART:20240908T080000Z
LOCATION:Bahnhof\, 16515 Oranienburg
SEQUENCE:0
SUMMARY:Stadtradeln-Auftakttour zum Erntefest nach Kremmen
UID:7159d558-1836-4c3b-b769-f1b0d6e95b9f
URL:https://touren-termine.adfc.de/radveranstaltung/137352-stadtradelnauft
 akttour-zum-erntefest-nach-kremmen
END:VEVENT
END:VCALENDAR
